BEGIN:VCALENDAR
VERSION:2.0
PRODID:-//HCL - Engineers | Surveyors | Architects - ECPv6.6.4.2//NONSGML v1.0//EN
CALSCALE:GREGORIAN
METHOD:PUBLISH
X-ORIGINAL-URL:https://hclengineering.com
X-WR-CALDESC:Events for HCL - Engineers | Surveyors | Architects
REFRESH-INTERVAL;VALUE=DURATION:PT1H
X-Robots-Tag:noindex
X-PUBLISHED-TTL:PT1H
BEGIN:VTIMEZONE
TZID:UTC
BEGIN:STANDARD
TZOFFSETFROM:+0000
TZOFFSETTO:+0000
TZNAME:UTC
DTSTART:20230101T000000
END:STANDARD
END:VTIMEZONE
BEGIN:VEVENT
DTSTART;VALUE=DATE:20230504
DTEND;VALUE=DATE:20230505
DTSTAMP:20260421T103013
CREATED:20230502T021325Z
LAST-MODIFIED:20230502T021325Z
UID:3779-1683158400-1683244799@hclengineering.com
SUMMARY:Spirit Week - May the 4th Be With You - Dress up as Star Wars Character/Dark Side
DESCRIPTION:
URL:https://hclengineering.com/event/spirit-week-may-the-4th-be-with-you-dress-up-as-star-wars-character-dark-side/
ATTACH;FMTTYPE=image/jpeg:https://hclengineering.com/wp-content/uploads/2023/05/may_the_fourth_be_with_you_website_2.jpg
END:VEVENT
BEGIN:VEVENT
DTSTART;VALUE=DATE:20230504
DTEND;VALUE=DATE:20230505
DTSTAMP:20260421T103013
CREATED:20230502T021518Z
LAST-MODIFIED:20230502T021518Z
UID:3781-1683158400-1683244799@hclengineering.com
SUMMARY:Spirit Week - HCL Cultural Potluck - Let's Celebrate Cinco De Mayo
DESCRIPTION:
URL:https://hclengineering.com/event/spirit-week-hcl-cultural-potluck-lets-celebrate-cinco-de-mayo/
ATTACH;FMTTYPE=image/jpeg:https://hclengineering.com/wp-content/uploads/2023/05/cinco-de-mayo-may-5-holiday-in-mexico-poster-with-mexican-decorations-cartoon-style-banner-free-vector.jpg
END:VEVENT
END:VCALENDAR