BEGIN:VCALENDAR
VERSION:2.0
PRODID:-//HCL - Engineers | Surveyors | Architects - ECPv6.6.4.2//NONSGML v1.0//EN
CALSCALE:GREGORIAN
METHOD:PUBLISH
X-WR-CALNAME:HCL - Engineers | Surveyors | Architects
X-ORIGINAL-URL:https://hclengineering.com
X-WR-CALDESC:Events for HCL - Engineers | Surveyors | Architects
REFRESH-INTERVAL;VALUE=DURATION:PT1H
X-Robots-Tag:noindex
X-PUBLISHED-TTL:PT1H
BEGIN:VTIMEZONE
TZID:UTC
BEGIN:STANDARD
TZOFFSETFROM:+0000
TZOFFSETTO:+0000
TZNAME:UTC
DTSTART:20230101T000000
END:STANDARD
END:VTIMEZONE
BEGIN:VEVENT
DTSTART;TZID=UTC:20240709T120000
DTEND;TZID=UTC:20240709T123000
DTSTAMP:20260421T085431
CREATED:20240708T192127Z
LAST-MODIFIED:20240708T192127Z
UID:4929-1720526400-1720528200@hclengineering.com
SUMMARY:HCL Walking Club
DESCRIPTION:
URL:https://hclengineering.com/event/hcl-walking-club/
CATEGORIES:Company Event
ATTACH;FMTTYPE=image/png:https://hclengineering.com/wp-content/uploads/2024/07/HCL-Walking-Club.png
END:VEVENT
BEGIN:VEVENT
DTSTART;TZID=UTC:20240709T120000
DTEND;TZID=UTC:20240709T123000
DTSTAMP:20260421T085431
CREATED:20240708T192127Z
LAST-MODIFIED:20240708T192127Z
UID:4929-1720526400-1720528200@hclengineering.com
SUMMARY:HCL Walking Club
DESCRIPTION:
URL:https://hclengineering.com/event/hcl-walking-club/
CATEGORIES:Company Event
ATTACH;FMTTYPE=image/png:https://hclengineering.com/wp-content/uploads/2024/07/HCL-Walking-Club.png
END:VEVENT
BEGIN:VEVENT
DTSTART;TZID=UTC:20240709T120000
DTEND;TZID=UTC:20240709T123000
DTSTAMP:20260421T085431
CREATED:20240708T192127Z
LAST-MODIFIED:20240708T192127Z
UID:4929-1720526400-1720528200@hclengineering.com
SUMMARY:HCL Walking Club
DESCRIPTION:
URL:https://hclengineering.com/event/hcl-walking-club/
CATEGORIES:Company Event
ATTACH;FMTTYPE=image/png:https://hclengineering.com/wp-content/uploads/2024/07/HCL-Walking-Club.png
END:VEVENT
BEGIN:VEVENT
DTSTART;TZID=UTC:20240709T120000
DTEND;TZID=UTC:20240709T123000
DTSTAMP:20260421T085431
CREATED:20240708T192127Z
LAST-MODIFIED:20240708T192127Z
UID:4929-1720526400-1720528200@hclengineering.com
SUMMARY:HCL Walking Club
DESCRIPTION:
URL:https://hclengineering.com/event/hcl-walking-club/
CATEGORIES:Company Event
ATTACH;FMTTYPE=image/png:https://hclengineering.com/wp-content/uploads/2024/07/HCL-Walking-Club.png
END:VEVENT
BEGIN:VEVENT
DTSTART;TZID=UTC:20240709T120000
DTEND;TZID=UTC:20240709T123000
DTSTAMP:20260421T085431
CREATED:20240708T192127Z
LAST-MODIFIED:20240708T192127Z
UID:4929-1720526400-1720528200@hclengineering.com
SUMMARY:HCL Walking Club
DESCRIPTION:
URL:https://hclengineering.com/event/hcl-walking-club/
CATEGORIES:Company Event
ATTACH;FMTTYPE=image/png:https://hclengineering.com/wp-content/uploads/2024/07/HCL-Walking-Club.png
END:VEVENT
BEGIN:VEVENT
DTSTART;TZID=UTC:20240709T120000
DTEND;TZID=UTC:20240709T123000
DTSTAMP:20260421T085431
CREATED:20240708T192127Z
LAST-MODIFIED:20240708T192127Z
UID:4929-1720526400-1720528200@hclengineering.com
SUMMARY:HCL Walking Club
DESCRIPTION:
URL:https://hclengineering.com/event/hcl-walking-club/
CATEGORIES:Company Event
ATTACH;FMTTYPE=image/png:https://hclengineering.com/wp-content/uploads/2024/07/HCL-Walking-Club.png
END:VEVENT
BEGIN:VEVENT
DTSTART;TZID=UTC:20240709T120000
DTEND;TZID=UTC:20240709T123000
DTSTAMP:20260421T085431
CREATED:20240708T192127Z
LAST-MODIFIED:20240708T192127Z
UID:4929-1720526400-1720528200@hclengineering.com
SUMMARY:HCL Walking Club
DESCRIPTION:
URL:https://hclengineering.com/event/hcl-walking-club/
CATEGORIES:Company Event
ATTACH;FMTTYPE=image/png:https://hclengineering.com/wp-content/uploads/2024/07/HCL-Walking-Club.png
END:VEVENT
BEGIN:VEVENT
DTSTART;TZID=UTC:20240709T120000
DTEND;TZID=UTC:20240709T123000
DTSTAMP:20260421T085431
CREATED:20240708T192127Z
LAST-MODIFIED:20240708T192127Z
UID:4929-1720526400-1720528200@hclengineering.com
SUMMARY:HCL Walking Club
DESCRIPTION:
URL:https://hclengineering.com/event/hcl-walking-club/
CATEGORIES:Company Event
ATTACH;FMTTYPE=image/png:https://hclengineering.com/wp-content/uploads/2024/07/HCL-Walking-Club.png
END:VEVENT
BEGIN:VEVENT
DTSTART;TZID=UTC:20240709T120000
DTEND;TZID=UTC:20240709T123000
DTSTAMP:20260421T085431
CREATED:20240708T192127Z
LAST-MODIFIED:20240708T192127Z
UID:4929-1720526400-1720528200@hclengineering.com
SUMMARY:HCL Walking Club
DESCRIPTION:
URL:https://hclengineering.com/event/hcl-walking-club/
CATEGORIES:Company Event
ATTACH;FMTTYPE=image/png:https://hclengineering.com/wp-content/uploads/2024/07/HCL-Walking-Club.png
END:VEVENT
BEGIN:VEVENT
DTSTART;TZID=UTC:20240709T120000
DTEND;TZID=UTC:20240709T123000
DTSTAMP:20260421T085431
CREATED:20240708T192127Z
LAST-MODIFIED:20240708T192127Z
UID:4929-1720526400-1720528200@hclengineering.com
SUMMARY:HCL Walking Club
DESCRIPTION:
URL:https://hclengineering.com/event/hcl-walking-club/
CATEGORIES:Company Event
ATTACH;FMTTYPE=image/png:https://hclengineering.com/wp-content/uploads/2024/07/HCL-Walking-Club.png
END:VEVENT
BEGIN:VEVENT
DTSTART;TZID=UTC:20240709T120000
DTEND;TZID=UTC:20240709T123000
DTSTAMP:20260421T085431
CREATED:20240708T192127Z
LAST-MODIFIED:20240708T192127Z
UID:4929-1720526400-1720528200@hclengineering.com
SUMMARY:HCL Walking Club
DESCRIPTION:
URL:https://hclengineering.com/event/hcl-walking-club/
CATEGORIES:Company Event
ATTACH;FMTTYPE=image/png:https://hclengineering.com/wp-content/uploads/2024/07/HCL-Walking-Club.png
END:VEVENT
BEGIN:VEVENT
DTSTART;TZID=UTC:20240709T120000
DTEND;TZID=UTC:20240709T123000
DTSTAMP:20260421T085431
CREATED:20240708T192127Z
LAST-MODIFIED:20240708T192127Z
UID:4929-1720526400-1720528200@hclengineering.com
SUMMARY:HCL Walking Club
DESCRIPTION:
URL:https://hclengineering.com/event/hcl-walking-club/
CATEGORIES:Company Event
ATTACH;FMTTYPE=image/png:https://hclengineering.com/wp-content/uploads/2024/07/HCL-Walking-Club.png
END:VEVENT
BEGIN:VEVENT
DTSTART;TZID=UTC:20240709T120000
DTEND;TZID=UTC:20240709T123000
DTSTAMP:20260421T085431
CREATED:20240708T192127Z
LAST-MODIFIED:20240708T192127Z
UID:4929-1720526400-1720528200@hclengineering.com
SUMMARY:HCL Walking Club
DESCRIPTION:
URL:https://hclengineering.com/event/hcl-walking-club/
CATEGORIES:Company Event
ATTACH;FMTTYPE=image/png:https://hclengineering.com/wp-content/uploads/2024/07/HCL-Walking-Club.png
END:VEVENT
BEGIN:VEVENT
DTSTART;TZID=UTC:20240709T120000
DTEND;TZID=UTC:20240709T123000
DTSTAMP:20260421T085431
CREATED:20240708T192127Z
LAST-MODIFIED:20240708T192127Z
UID:4929-1720526400-1720528200@hclengineering.com
SUMMARY:HCL Walking Club
DESCRIPTION:
URL:https://hclengineering.com/event/hcl-walking-club/
CATEGORIES:Company Event
ATTACH;FMTTYPE=image/png:https://hclengineering.com/wp-content/uploads/2024/07/HCL-Walking-Club.png
END:VEVENT
BEGIN:VEVENT
DTSTART;TZID=UTC:20240709T120000
DTEND;TZID=UTC:20240709T123000
DTSTAMP:20260421T085431
CREATED:20240708T192127Z
LAST-MODIFIED:20240708T192127Z
UID:4929-1720526400-1720528200@hclengineering.com
SUMMARY:HCL Walking Club
DESCRIPTION:
URL:https://hclengineering.com/event/hcl-walking-club/
CATEGORIES:Company Event
ATTACH;FMTTYPE=image/png:https://hclengineering.com/wp-content/uploads/2024/07/HCL-Walking-Club.png
END:VEVENT
BEGIN:VEVENT
DTSTART;TZID=UTC:20240709T120000
DTEND;TZID=UTC:20240709T123000
DTSTAMP:20260421T085431
CREATED:20240708T192127Z
LAST-MODIFIED:20240708T192127Z
UID:4929-1720526400-1720528200@hclengineering.com
SUMMARY:HCL Walking Club
DESCRIPTION:
URL:https://hclengineering.com/event/hcl-walking-club/
CATEGORIES:Company Event
ATTACH;FMTTYPE=image/png:https://hclengineering.com/wp-content/uploads/2024/07/HCL-Walking-Club.png
END:VEVENT
BEGIN:VEVENT
DTSTART;TZID=UTC:20240709T120000
DTEND;TZID=UTC:20240709T123000
DTSTAMP:20260421T085431
CREATED:20240708T192127Z
LAST-MODIFIED:20240708T192127Z
UID:4929-1720526400-1720528200@hclengineering.com
SUMMARY:HCL Walking Club
DESCRIPTION:
URL:https://hclengineering.com/event/hcl-walking-club/
CATEGORIES:Company Event
ATTACH;FMTTYPE=image/png:https://hclengineering.com/wp-content/uploads/2024/07/HCL-Walking-Club.png
END:VEVENT
BEGIN:VEVENT
DTSTART;TZID=UTC:20240709T120000
DTEND;TZID=UTC:20240709T123000
DTSTAMP:20260421T085431
CREATED:20240708T192127Z
LAST-MODIFIED:20240708T192127Z
UID:4929-1720526400-1720528200@hclengineering.com
SUMMARY:HCL Walking Club
DESCRIPTION:
URL:https://hclengineering.com/event/hcl-walking-club/
CATEGORIES:Company Event
ATTACH;FMTTYPE=image/png:https://hclengineering.com/wp-content/uploads/2024/07/HCL-Walking-Club.png
END:VEVENT
BEGIN:VEVENT
DTSTART;TZID=UTC:20240709T120000
DTEND;TZID=UTC:20240709T123000
DTSTAMP:20260421T085431
CREATED:20240708T192127Z
LAST-MODIFIED:20240708T192127Z
UID:4929-1720526400-1720528200@hclengineering.com
SUMMARY:HCL Walking Club
DESCRIPTION:
URL:https://hclengineering.com/event/hcl-walking-club/
CATEGORIES:Company Event
ATTACH;FMTTYPE=image/png:https://hclengineering.com/wp-content/uploads/2024/07/HCL-Walking-Club.png
END:VEVENT
BEGIN:VEVENT
DTSTART;TZID=UTC:20240709T120000
DTEND;TZID=UTC:20240709T123000
DTSTAMP:20260421T085431
CREATED:20240708T192127Z
LAST-MODIFIED:20240708T192127Z
UID:4929-1720526400-1720528200@hclengineering.com
SUMMARY:HCL Walking Club
DESCRIPTION:
URL:https://hclengineering.com/event/hcl-walking-club/
CATEGORIES:Company Event
ATTACH;FMTTYPE=image/png:https://hclengineering.com/wp-content/uploads/2024/07/HCL-Walking-Club.png
END:VEVENT
BEGIN:VEVENT
DTSTART;TZID=UTC:20240709T120000
DTEND;TZID=UTC:20240709T123000
DTSTAMP:20260421T085431
CREATED:20240708T192127Z
LAST-MODIFIED:20240708T192127Z
UID:4929-1720526400-1720528200@hclengineering.com
SUMMARY:HCL Walking Club
DESCRIPTION:
URL:https://hclengineering.com/event/hcl-walking-club/
CATEGORIES:Company Event
ATTACH;FMTTYPE=image/png:https://hclengineering.com/wp-content/uploads/2024/07/HCL-Walking-Club.png
END:VEVENT
BEGIN:VEVENT
DTSTART;TZID=UTC:20240709T120000
DTEND;TZID=UTC:20240709T123000
DTSTAMP:20260421T085431
CREATED:20240708T192127Z
LAST-MODIFIED:20240708T192127Z
UID:4929-1720526400-1720528200@hclengineering.com
SUMMARY:HCL Walking Club
DESCRIPTION:
URL:https://hclengineering.com/event/hcl-walking-club/
CATEGORIES:Company Event
ATTACH;FMTTYPE=image/png:https://hclengineering.com/wp-content/uploads/2024/07/HCL-Walking-Club.png
END:VEVENT
BEGIN:VEVENT
DTSTART;TZID=UTC:20240709T120000
DTEND;TZID=UTC:20240709T123000
DTSTAMP:20260421T085431
CREATED:20240708T192127Z
LAST-MODIFIED:20240708T192127Z
UID:4929-1720526400-1720528200@hclengineering.com
SUMMARY:HCL Walking Club
DESCRIPTION:
URL:https://hclengineering.com/event/hcl-walking-club/
CATEGORIES:Company Event
ATTACH;FMTTYPE=image/png:https://hclengineering.com/wp-content/uploads/2024/07/HCL-Walking-Club.png
END:VEVENT
BEGIN:VEVENT
DTSTART;TZID=UTC:20240709T120000
DTEND;TZID=UTC:20240709T123000
DTSTAMP:20260421T085431
CREATED:20240708T192127Z
LAST-MODIFIED:20240708T192127Z
UID:4929-1720526400-1720528200@hclengineering.com
SUMMARY:HCL Walking Club
DESCRIPTION:
URL:https://hclengineering.com/event/hcl-walking-club/
CATEGORIES:Company Event
ATTACH;FMTTYPE=image/png:https://hclengineering.com/wp-content/uploads/2024/07/HCL-Walking-Club.png
END:VEVENT
BEGIN:VEVENT
DTSTART;TZID=UTC:20240709T120000
DTEND;TZID=UTC:20240709T123000
DTSTAMP:20260421T085431
CREATED:20240708T192127Z
LAST-MODIFIED:20240708T192127Z
UID:4929-1720526400-1720528200@hclengineering.com
SUMMARY:HCL Walking Club
DESCRIPTION:
URL:https://hclengineering.com/event/hcl-walking-club/
CATEGORIES:Company Event
ATTACH;FMTTYPE=image/png:https://hclengineering.com/wp-content/uploads/2024/07/HCL-Walking-Club.png
END:VEVENT
BEGIN:VEVENT
DTSTART;TZID=UTC:20240709T120000
DTEND;TZID=UTC:20240709T123000
DTSTAMP:20260421T085431
CREATED:20240708T192127Z
LAST-MODIFIED:20240708T192127Z
UID:4929-1720526400-1720528200@hclengineering.com
SUMMARY:HCL Walking Club
DESCRIPTION:
URL:https://hclengineering.com/event/hcl-walking-club/
CATEGORIES:Company Event
ATTACH;FMTTYPE=image/png:https://hclengineering.com/wp-content/uploads/2024/07/HCL-Walking-Club.png
END:VEVENT
BEGIN:VEVENT
DTSTART;TZID=UTC:20231116T160000
DTEND;TZID=UTC:20231116T190000
DTSTAMP:20260421T085431
CREATED:20231103T171713Z
LAST-MODIFIED:20231103T171713Z
UID:4656-1700150400-1700161200@hclengineering.com
SUMMARY:HCL Chili Cook-Off and HCL Office Olympics!
DESCRIPTION:O
URL:https://hclengineering.com/event/hcl-chili-cook-off-and-hcl-office-olympics/
LOCATION:HCL Engineering & Surveying Headquarters
CATEGORIES:Company Event
ATTACH;FMTTYPE=image/jpeg:https://hclengineering.com/wp-content/uploads/2023/11/Chili-Cook-Off-Office-Olympics-2023.jpg
END:VEVENT
BEGIN:VEVENT
DTSTART;TZID=UTC:20240709T120000
DTEND;TZID=UTC:20240709T123000
DTSTAMP:20260421T085431
CREATED:20240708T192127Z
LAST-MODIFIED:20240708T192127Z
UID:4929-1720526400-1720528200@hclengineering.com
SUMMARY:HCL Walking Club
DESCRIPTION:
URL:https://hclengineering.com/event/hcl-walking-club/
CATEGORIES:Company Event
ATTACH;FMTTYPE=image/png:https://hclengineering.com/wp-content/uploads/2024/07/HCL-Walking-Club.png
END:VEVENT
BEGIN:VEVENT
DTSTART;TZID=UTC:20240709T120000
DTEND;TZID=UTC:20240709T123000
DTSTAMP:20260421T085431
CREATED:20240708T192127Z
LAST-MODIFIED:20240708T192127Z
UID:4929-1720526400-1720528200@hclengineering.com
SUMMARY:HCL Walking Club
DESCRIPTION:
URL:https://hclengineering.com/event/hcl-walking-club/
CATEGORIES:Company Event
ATTACH;FMTTYPE=image/png:https://hclengineering.com/wp-content/uploads/2024/07/HCL-Walking-Club.png
END:VEVENT
BEGIN:VEVENT
DTSTART;TZID=UTC:20240709T120000
DTEND;TZID=UTC:20240709T123000
DTSTAMP:20260421T085431
CREATED:20240708T192127Z
LAST-MODIFIED:20240708T192127Z
UID:4929-1720526400-1720528200@hclengineering.com
SUMMARY:HCL Walking Club
DESCRIPTION:
URL:https://hclengineering.com/event/hcl-walking-club/
CATEGORIES:Company Event
ATTACH;FMTTYPE=image/png:https://hclengineering.com/wp-content/uploads/2024/07/HCL-Walking-Club.png
END:VEVENT
END:VCALENDAR