BEGIN:VCALENDAR
VERSION:2.0
PRODID:-//HCL - Engineers | Surveyors | Architects - ECPv6.6.4.2//NONSGML v1.0//EN
CALSCALE:GREGORIAN
METHOD:PUBLISH
X-ORIGINAL-URL:https://hclengineering.com
X-WR-CALDESC:Events for HCL - Engineers | Surveyors | Architects
REFRESH-INTERVAL;VALUE=DURATION:PT1H
X-Robots-Tag:noindex
X-PUBLISHED-TTL:PT1H
BEGIN:VTIMEZONE
TZID:UTC
BEGIN:STANDARD
TZOFFSETFROM:+0000
TZOFFSETTO:+0000
TZNAME:UTC
DTSTART:20240101T000000
END:STANDARD
END:VTIMEZONE
BEGIN:VEVENT
DTSTART;TZID=UTC:20240501T150000
DTEND;TZID=UTC:20240501T170000
DTSTAMP:20260422T114951
CREATED:20240426T210341Z
LAST-MODIFIED:20240426T210500Z
UID:4850-1714575600-1714582800@hclengineering.com
SUMMARY:Quarterly All Staff Meeting
DESCRIPTION:
URL:https://hclengineering.com/event/quartlerly-all-staff-meeting/
LOCATION:HCL Engineering & Surveying Headquarters
CATEGORIES:Company Event
END:VEVENT
END:VCALENDAR