BEGIN:VCALENDAR
VERSION:2.0
PRODID:-//HCL - Engineers | Surveyors | Architects - ECPv6.6.4.2//NONSGML v1.0//EN
CALSCALE:GREGORIAN
METHOD:PUBLISH
X-WR-CALNAME:HCL - Engineers | Surveyors | Architects
X-ORIGINAL-URL:https://hclengineering.com
X-WR-CALDESC:Events for HCL - Engineers | Surveyors | Architects
REFRESH-INTERVAL;VALUE=DURATION:PT1H
X-Robots-Tag:noindex
X-PUBLISHED-TTL:PT1H
BEGIN:VTIMEZONE
TZID:UTC
BEGIN:STANDARD
TZOFFSETFROM:+0000
TZOFFSETTO:+0000
TZNAME:UTC
DTSTART:20240101T000000
END:STANDARD
END:VTIMEZONE
BEGIN:VEVENT
DTSTART;TZID=UTC:20240601T080000
DTEND;TZID=UTC:20240601T140000
DTSTAMP:20260425T114216
CREATED:20240506T210824Z
LAST-MODIFIED:20240506T210824Z
UID:4871-1717228800-1717250400@hclengineering.com
SUMMARY:HCL 2nd Quarter Community Service Event
DESCRIPTION:
URL:https://hclengineering.com/event/hcl-2nd-quarter-community-service-event/
LOCATION:Mount Falcon Park Trailhead
CATEGORIES:Company Event
ATTACH;FMTTYPE=image/png:https://hclengineering.com/wp-content/uploads/2024/05/Community-Service.png
END:VEVENT
END:VCALENDAR